BEGIN:VCALENDAR
VERSION:2.0
PRODID:-//Squarespace Inc/Squarespace 6//v6//EN
BEGIN:VEVENT
UID:5d4cb240e601f40001cb68e7@squarespace.com
DTSTAMP:20191120T232643Z
DTSTART:20191023T210000Z
DTEND:20191024T000000Z
SUMMARY:North Island NextCore RN50 LiDAR Field Demo 
GEO:-36.411177;174.631786
LOCATION:North Island\, 45 Wyllie Road\, Warkworth\, Auckland\, 0981\, New 
 Zealand
END:VEVENT
END:VCALENDAR
