BEGIN:VCALENDAR
VERSION:2.0
PRODID:-//Squarespace Inc/Squarespace 6//v6//EN
BEGIN:VEVENT
UID:5ddf01fd2104bb5045668624@squarespace.com
DTSTAMP:20191201T213550Z
DTSTART:20200210T210000Z
DTEND:20200228T000000Z
SUMMARY:DJI Agras T16 Demo 
GEO:-36.432389;174.574624
LOCATION:TBA\, New Zealand
END:VEVENT
END:VCALENDAR
