BEGIN:VCALENDAR
VERSION:2.0
PRODID:-//Squarespace Inc/Squarespace 6//v6//EN
BEGIN:VEVENT
UID:5c883c6ee4966b46cfb0fbbb@squarespace.com
DTSTAMP:20191120T221410Z
DTSTART:20190611T213000Z
DTEND:20190615T063000Z
SUMMARY:Fieldays
GEO:-37.872844;175.348238
LOCATION:Mystery Creek\, 125 Mystery Creek Road\, Ohaupo\, Waikato\, 3881\, 
 New Zealand
END:VEVENT
END:VCALENDAR
