BEGIN:VCALENDAR
VERSION:2.0
PRODID:-//Squarespace Inc/Squarespace 6//v6//EN
BEGIN:VEVENT
UID:5c883a22971a180eb741a9ea@squarespace.com
DTSTAMP:20191120T222533Z
DTSTART:20190508T210000Z
DTEND:20190511T050000Z
SUMMARY:Surveying and Spatial Annual Conference
GEO:-36.857474;174.764073
LOCATION:Cordis Auckland Hotel\, 83 Symonds Street\, Auckland\, Auckland\, 
 1010\, New Zealand
END:VEVENT
END:VCALENDAR
