BEGIN:VCALENDAR
VERSION:2.0
PRODID:-//Squarespace Inc/Squarespace 6//v6//EN
BEGIN:VEVENT
UID:5c88384c6e9a7f2095a93e68@squarespace.com
DTSTAMP:20191120T223346Z
DTSTART:20190327T110000Z
DTEND:20190329T210000Z
SUMMARY:South Island Agricultural Field Days
GEO:-43.504771;172.208959
LOCATION:Kirwee\, 1191 Courtenay Road\, Kirwee\, Canterbury\, 7571\, New Ze
 aland
END:VEVENT
END:VCALENDAR
